BEGIN:VCALENDAR
VERSION:2.0
PRODID:-//pretix//Sunsoul_Pretix//
BEGIN:VTIMEZONE
TZID:Europe/Berlin
BEGIN:STANDARD
DTSTART:20001029T040000
RRULE:FREQ=YEARLY;BYDAY=-1SU;BYMONTH=10
TZNAME:CET
TZOFFSETFROM:+0200
TZOFFSETTO:+0100
END:STANDARD
BEGIN:DAYLIGHT
DTSTART:20000326T030000
RRULE:FREQ=YEARLY;BYDAY=-1SU;BYMONTH=3
TZNAME:CEST
TZOFFSETFROM:+0100
TZOFFSETTO:+0200
END:DAYLIGHT
END:VTIMEZONE
BEGIN:VEVENT
UID:pretix-Lilian-yoga-302@tickets.sunsoulyoga.de
DTSTART;TZID=Europe/Berlin:20260617T083000
DTEND;TZID=Europe/Berlin:20260617T093000
DESCRIPTION:Tickets: https://tickets.sunsoulyoga.de/Lilian/yoga/302/\nVeran
 stalter: Lilian Steinmetz
DTSTAMP:20260423T170216Z
LOCATION:Leitstelle
SUMMARY:Sanft in den Tag
END:VEVENT
END:VCALENDAR
