BEGIN:VCALENDAR
VERSION:2.0
PRODID:-//pretix//Sunsoul_Pretix//
BEGIN:VTIMEZONE
TZID:Europe/Berlin
BEGIN:STANDARD
DTSTART:20001029T040000
RRULE:FREQ=YEARLY;BYDAY=-1SU;BYMONTH=10
TZNAME:CET
TZOFFSETFROM:+0200
TZOFFSETTO:+0100
END:STANDARD
BEGIN:DAYLIGHT
DTSTART:20000326T030000
RRULE:FREQ=YEARLY;BYDAY=-1SU;BYMONTH=3
TZNAME:CEST
TZOFFSETFROM:+0100
TZOFFSETTO:+0200
END:DAYLIGHT
END:VTIMEZONE
BEGIN:VEVENT
UID:pretix-Lilian-yoga-170@tickets.sunsoulyoga.de
DTSTART;TZID=Europe/Berlin:20250730T190000
DTEND;TZID=Europe/Berlin:20250730T220000
DESCRIPTION:Tickets: https://tickets.sunsoulyoga.de/Lilian/yoga/170/\nVeran
 stalter: Lilian Steinmetz
DTSTAMP:20260424T063021Z
LOCATION:Die ZEP (Neuenheim)
SUMMARY:Yoga & Lagerfeuer Vol. 3
END:VEVENT
END:VCALENDAR
