BEGIN:VCALENDAR
VERSION:2.0
PRODID:-//pretix//Sunsoul_Pretix//
BEGIN:VTIMEZONE
TZID:Europe/Berlin
BEGIN:STANDARD
DTSTART:20001029T040000
RRULE:FREQ=YEARLY;BYDAY=-1SU;BYMONTH=10
TZNAME:CET
TZOFFSETFROM:+0200
TZOFFSETTO:+0100
END:STANDARD
BEGIN:DAYLIGHT
DTSTART:20000326T030000
RRULE:FREQ=YEARLY;BYDAY=-1SU;BYMONTH=3
TZNAME:CEST
TZOFFSETFROM:+0100
TZOFFSETTO:+0200
END:DAYLIGHT
END:VTIMEZONE
BEGIN:VEVENT
UID:pretix-Lilian-yoga-157@tickets.sunsoulyoga.de
DTSTART;TZID=Europe/Berlin:20250526T090000
DTEND;TZID=Europe/Berlin:20250526T100000
DESCRIPTION:Tickets: https://tickets.sunsoulyoga.de/Lilian/yoga/157/\nEinla
 ss: 26.05.2025 08:45\nVeranstalter: Lilian Steinmetz
DTSTAMP:20260424T143104Z
LOCATION:Leitstelle
SUMMARY:Stark in den Tag
END:VEVENT
END:VCALENDAR
