BEGIN:VCALENDAR
VERSION:2.0
PRODID:-//pretix//Sunsoul_Pretix//
BEGIN:VTIMEZONE
TZID:Europe/Berlin
BEGIN:STANDARD
DTSTART:20001029T040000
RRULE:FREQ=YEARLY;BYDAY=-1SU;BYMONTH=10
TZNAME:CET
TZOFFSETFROM:+0200
TZOFFSETTO:+0100
END:STANDARD
BEGIN:DAYLIGHT
DTSTART:20000326T030000
RRULE:FREQ=YEARLY;BYDAY=-1SU;BYMONTH=3
TZNAME:CEST
TZOFFSETFROM:+0100
TZOFFSETTO:+0200
END:DAYLIGHT
END:VTIMEZONE
BEGIN:VEVENT
UID:pretix-Lilian-yoga-124@tickets.sunsoulyoga.de
DTSTART;TZID=Europe/Berlin:20250603T203000
DTEND;TZID=Europe/Berlin:20250603T214500
DESCRIPTION:Tickets: https://tickets.sunsoulyoga.de/Lilian/yoga/124/\nEinla
 ss: 03.06.2025 20:15\nVeranstalter: Lilian Steinmetz
DTSTAMP:20260424T124548Z
LOCATION:ZEP\, Zeppelinstraße 1\, (in der ZEP Preise als Spendenempfehlung
 )
SUMMARY:Vinyasa Fortgeschrittene
END:VEVENT
END:VCALENDAR
